BEGIN:VCALENDAR
VERSION:2.0
PRODID:-//Justice Network Of Tarrant Country - ECPv6.15.20//NONSGML v1.0//EN
CALSCALE:GREGORIAN
METHOD:PUBLISH
X-WR-CALNAME:Justice Network Of Tarrant Country
X-ORIGINAL-URL:https://jnotc.org
X-WR-CALDESC:Events for Justice Network Of Tarrant Country
REFRESH-INTERVAL;VALUE=DURATION:PT1H
X-Robots-Tag:noindex
X-PUBLISHED-TTL:PT1H
BEGIN:VTIMEZONE
TZID:UTC
BEGIN:STANDARD
TZOFFSETFROM:+0000
TZOFFSETTO:+0000
TZNAME:UTC
DTSTART:20260101T000000
END:STANDARD
END:VTIMEZONE
BEGIN:VEVENT
DTSTART;TZID=UTC:20270511T100000
DTEND;TZID=UTC:20270511T130000
DTSTAMP:20260425T170306
CREATED:20251117T010855Z
LAST-MODIFIED:20251117T010855Z
UID:10001634-1810029600-1810040400@jnotc.org
SUMMARY:Commissioners Court\, Tarrant County
DESCRIPTION:Regular meeting
URL:https://jnotc.org/event/commissioners-court-tarrant-county/2027-05-11/
LOCATION:G.K.Maenius Administration Building\, 100 E. Weatherford St.\, Fort Worth\, TX\, 76102\, United States
END:VEVENT
BEGIN:VEVENT
DTSTART;TZID=UTC:20270608T100000
DTEND;TZID=UTC:20270608T130000
DTSTAMP:20260425T170306
CREATED:20251117T010855Z
LAST-MODIFIED:20251117T010855Z
UID:10001635-1812448800-1812459600@jnotc.org
SUMMARY:Commissioners Court\, Tarrant County
DESCRIPTION:Regular meeting
URL:https://jnotc.org/event/commissioners-court-tarrant-county/2027-06-08/
LOCATION:G.K.Maenius Administration Building\, 100 E. Weatherford St.\, Fort Worth\, TX\, 76102\, United States
END:VEVENT
BEGIN:VEVENT
DTSTART;TZID=UTC:20270713T100000
DTEND;TZID=UTC:20270713T130000
DTSTAMP:20260425T170306
CREATED:20251117T010855Z
LAST-MODIFIED:20251117T010855Z
UID:10001636-1815472800-1815483600@jnotc.org
SUMMARY:Commissioners Court\, Tarrant County
DESCRIPTION:Regular meeting
URL:https://jnotc.org/event/commissioners-court-tarrant-county/2027-07-13/
LOCATION:G.K.Maenius Administration Building\, 100 E. Weatherford St.\, Fort Worth\, TX\, 76102\, United States
END:VEVENT
BEGIN:VEVENT
DTSTART;TZID=UTC:20270810T100000
DTEND;TZID=UTC:20270810T130000
DTSTAMP:20260425T170306
CREATED:20251117T010855Z
LAST-MODIFIED:20251117T010855Z
UID:10001637-1817892000-1817902800@jnotc.org
SUMMARY:Commissioners Court\, Tarrant County
DESCRIPTION:Regular meeting
URL:https://jnotc.org/event/commissioners-court-tarrant-county/2027-08-10/
LOCATION:G.K.Maenius Administration Building\, 100 E. Weatherford St.\, Fort Worth\, TX\, 76102\, United States
END:VEVENT
BEGIN:VEVENT
DTSTART;TZID=UTC:20270914T100000
DTEND;TZID=UTC:20270914T130000
DTSTAMP:20260425T170306
CREATED:20251117T010855Z
LAST-MODIFIED:20251117T010855Z
UID:10001638-1820916000-1820926800@jnotc.org
SUMMARY:Commissioners Court\, Tarrant County
DESCRIPTION:Regular meeting
URL:https://jnotc.org/event/commissioners-court-tarrant-county/2027-09-14/
LOCATION:G.K.Maenius Administration Building\, 100 E. Weatherford St.\, Fort Worth\, TX\, 76102\, United States
END:VEVENT
BEGIN:VEVENT
DTSTART;TZID=UTC:20271012T100000
DTEND;TZID=UTC:20271012T130000
DTSTAMP:20260425T170306
CREATED:20251117T010855Z
LAST-MODIFIED:20251117T010855Z
UID:10001639-1823335200-1823346000@jnotc.org
SUMMARY:Commissioners Court\, Tarrant County
DESCRIPTION:Regular meeting
URL:https://jnotc.org/event/commissioners-court-tarrant-county/2027-10-12/
LOCATION:G.K.Maenius Administration Building\, 100 E. Weatherford St.\, Fort Worth\, TX\, 76102\, United States
END:VEVENT
BEGIN:VEVENT
DTSTART;TZID=UTC:20271109T100000
DTEND;TZID=UTC:20271109T130000
DTSTAMP:20260425T170306
CREATED:20251117T010855Z
LAST-MODIFIED:20251117T010855Z
UID:10001640-1825754400-1825765200@jnotc.org
SUMMARY:Commissioners Court\, Tarrant County
DESCRIPTION:Regular meeting
URL:https://jnotc.org/event/commissioners-court-tarrant-county/2027-11-09/
LOCATION:G.K.Maenius Administration Building\, 100 E. Weatherford St.\, Fort Worth\, TX\, 76102\, United States
END:VEVENT
BEGIN:VEVENT
DTSTART;TZID=UTC:20271214T100000
DTEND;TZID=UTC:20271214T130000
DTSTAMP:20260425T170306
CREATED:20251117T010855Z
LAST-MODIFIED:20251117T010855Z
UID:10001641-1828778400-1828789200@jnotc.org
SUMMARY:Commissioners Court\, Tarrant County
DESCRIPTION:Regular meeting
URL:https://jnotc.org/event/commissioners-court-tarrant-county/2027-12-14/
LOCATION:G.K.Maenius Administration Building\, 100 E. Weatherford St.\, Fort Worth\, TX\, 76102\, United States
END:VEVENT
BEGIN:VEVENT
DTSTART;TZID=UTC:20280111T100000
DTEND;TZID=UTC:20280111T130000
DTSTAMP:20260425T170306
CREATED:20251117T010855Z
LAST-MODIFIED:20251117T010855Z
UID:10001642-1831197600-1831208400@jnotc.org
SUMMARY:Commissioners Court\, Tarrant County
DESCRIPTION:Regular meeting
URL:https://jnotc.org/event/commissioners-court-tarrant-county/2028-01-11/
LOCATION:G.K.Maenius Administration Building\, 100 E. Weatherford St.\, Fort Worth\, TX\, 76102\, United States
END:VEVENT
BEGIN:VEVENT
DTSTART;TZID=UTC:20280208T100000
DTEND;TZID=UTC:20280208T130000
DTSTAMP:20260425T170306
CREATED:20251117T010855Z
LAST-MODIFIED:20251117T010855Z
UID:10001643-1833616800-1833627600@jnotc.org
SUMMARY:Commissioners Court\, Tarrant County
DESCRIPTION:Regular meeting
URL:https://jnotc.org/event/commissioners-court-tarrant-county/2028-02-08/
LOCATION:G.K.Maenius Administration Building\, 100 E. Weatherford St.\, Fort Worth\, TX\, 76102\, United States
END:VEVENT
BEGIN:VEVENT
DTSTART;TZID=UTC:20280314T100000
DTEND;TZID=UTC:20280314T130000
DTSTAMP:20260425T170306
CREATED:20251117T010855Z
LAST-MODIFIED:20251117T010855Z
UID:10001644-1836640800-1836651600@jnotc.org
SUMMARY:Commissioners Court\, Tarrant County
DESCRIPTION:Regular meeting
URL:https://jnotc.org/event/commissioners-court-tarrant-county/2028-03-14/
LOCATION:G.K.Maenius Administration Building\, 100 E. Weatherford St.\, Fort Worth\, TX\, 76102\, United States
END:VEVENT
BEGIN:VEVENT
DTSTART;TZID=UTC:20280411T100000
DTEND;TZID=UTC:20280411T130000
DTSTAMP:20260425T170306
CREATED:20251117T010855Z
LAST-MODIFIED:20251117T010855Z
UID:10001645-1839060000-1839070800@jnotc.org
SUMMARY:Commissioners Court\, Tarrant County
DESCRIPTION:Regular meeting
URL:https://jnotc.org/event/commissioners-court-tarrant-county/2028-04-11/
LOCATION:G.K.Maenius Administration Building\, 100 E. Weatherford St.\, Fort Worth\, TX\, 76102\, United States
END:VEVENT
BEGIN:VEVENT
DTSTART;TZID=UTC:20280509T100000
DTEND;TZID=UTC:20280509T130000
DTSTAMP:20260425T170306
CREATED:20251117T010855Z
LAST-MODIFIED:20251117T010855Z
UID:10001646-1841479200-1841490000@jnotc.org
SUMMARY:Commissioners Court\, Tarrant County
DESCRIPTION:Regular meeting
URL:https://jnotc.org/event/commissioners-court-tarrant-county/2028-05-09/
LOCATION:G.K.Maenius Administration Building\, 100 E. Weatherford St.\, Fort Worth\, TX\, 76102\, United States
END:VEVENT
BEGIN:VEVENT
DTSTART;TZID=UTC:20280613T100000
DTEND;TZID=UTC:20280613T130000
DTSTAMP:20260425T170306
CREATED:20251117T010855Z
LAST-MODIFIED:20251117T010855Z
UID:10001647-1844503200-1844514000@jnotc.org
SUMMARY:Commissioners Court\, Tarrant County
DESCRIPTION:Regular meeting
URL:https://jnotc.org/event/commissioners-court-tarrant-county/2028-06-13/
LOCATION:G.K.Maenius Administration Building\, 100 E. Weatherford St.\, Fort Worth\, TX\, 76102\, United States
END:VEVENT
BEGIN:VEVENT
DTSTART;TZID=UTC:20280711T100000
DTEND;TZID=UTC:20280711T130000
DTSTAMP:20260425T170306
CREATED:20251117T010855Z
LAST-MODIFIED:20251117T010855Z
UID:10001648-1846922400-1846933200@jnotc.org
SUMMARY:Commissioners Court\, Tarrant County
DESCRIPTION:Regular meeting
URL:https://jnotc.org/event/commissioners-court-tarrant-county/2028-07-11/
LOCATION:G.K.Maenius Administration Building\, 100 E. Weatherford St.\, Fort Worth\, TX\, 76102\, United States
END:VEVENT
BEGIN:VEVENT
DTSTART;TZID=UTC:20280808T100000
DTEND;TZID=UTC:20280808T130000
DTSTAMP:20260425T170306
CREATED:20251117T010855Z
LAST-MODIFIED:20251117T010855Z
UID:10001649-1849341600-1849352400@jnotc.org
SUMMARY:Commissioners Court\, Tarrant County
DESCRIPTION:Regular meeting
URL:https://jnotc.org/event/commissioners-court-tarrant-county/2028-08-08/
LOCATION:G.K.Maenius Administration Building\, 100 E. Weatherford St.\, Fort Worth\, TX\, 76102\, United States
END:VEVENT
BEGIN:VEVENT
DTSTART;TZID=UTC:20280912T100000
DTEND;TZID=UTC:20280912T130000
DTSTAMP:20260425T170306
CREATED:20251117T010855Z
LAST-MODIFIED:20251117T010855Z
UID:10001650-1852365600-1852376400@jnotc.org
SUMMARY:Commissioners Court\, Tarrant County
DESCRIPTION:Regular meeting
URL:https://jnotc.org/event/commissioners-court-tarrant-county/2028-09-12/
LOCATION:G.K.Maenius Administration Building\, 100 E. Weatherford St.\, Fort Worth\, TX\, 76102\, United States
END:VEVENT
BEGIN:VEVENT
DTSTART;TZID=UTC:20281010T100000
DTEND;TZID=UTC:20281010T130000
DTSTAMP:20260425T170306
CREATED:20251117T010855Z
LAST-MODIFIED:20251117T010855Z
UID:10001651-1854784800-1854795600@jnotc.org
SUMMARY:Commissioners Court\, Tarrant County
DESCRIPTION:Regular meeting
URL:https://jnotc.org/event/commissioners-court-tarrant-county/2028-10-10/
LOCATION:G.K.Maenius Administration Building\, 100 E. Weatherford St.\, Fort Worth\, TX\, 76102\, United States
END:VEVENT
BEGIN:VEVENT
DTSTART;TZID=UTC:20281114T100000
DTEND;TZID=UTC:20281114T130000
DTSTAMP:20260425T170306
CREATED:20251117T010855Z
LAST-MODIFIED:20251117T010855Z
UID:10001652-1857808800-1857819600@jnotc.org
SUMMARY:Commissioners Court\, Tarrant County
DESCRIPTION:Regular meeting
URL:https://jnotc.org/event/commissioners-court-tarrant-county/2028-11-14/
LOCATION:G.K.Maenius Administration Building\, 100 E. Weatherford St.\, Fort Worth\, TX\, 76102\, United States
END:VEVENT
BEGIN:VEVENT
DTSTART;TZID=UTC:20281212T100000
DTEND;TZID=UTC:20281212T130000
DTSTAMP:20260425T170306
CREATED:20251117T010855Z
LAST-MODIFIED:20251117T010855Z
UID:10001653-1860228000-1860238800@jnotc.org
SUMMARY:Commissioners Court\, Tarrant County
DESCRIPTION:Regular meeting
URL:https://jnotc.org/event/commissioners-court-tarrant-county/2028-12-12/
LOCATION:G.K.Maenius Administration Building\, 100 E. Weatherford St.\, Fort Worth\, TX\, 76102\, United States
END:VEVENT
BEGIN:VEVENT
DTSTART;TZID=UTC:20290109T100000
DTEND;TZID=UTC:20290109T130000
DTSTAMP:20260425T170306
CREATED:20251117T010855Z
LAST-MODIFIED:20251117T010855Z
UID:10001654-1862647200-1862658000@jnotc.org
SUMMARY:Commissioners Court\, Tarrant County
DESCRIPTION:Regular meeting
URL:https://jnotc.org/event/commissioners-court-tarrant-county/2029-01-09/
LOCATION:G.K.Maenius Administration Building\, 100 E. Weatherford St.\, Fort Worth\, TX\, 76102\, United States
END:VEVENT
BEGIN:VEVENT
DTSTART;TZID=UTC:20290213T100000
DTEND;TZID=UTC:20290213T130000
DTSTAMP:20260425T170306
CREATED:20251117T010855Z
LAST-MODIFIED:20251117T010855Z
UID:10001655-1865671200-1865682000@jnotc.org
SUMMARY:Commissioners Court\, Tarrant County
DESCRIPTION:Regular meeting
URL:https://jnotc.org/event/commissioners-court-tarrant-county/2029-02-13/
LOCATION:G.K.Maenius Administration Building\, 100 E. Weatherford St.\, Fort Worth\, TX\, 76102\, United States
END:VEVENT
BEGIN:VEVENT
DTSTART;TZID=UTC:20290313T100000
DTEND;TZID=UTC:20290313T130000
DTSTAMP:20260425T170306
CREATED:20251117T010855Z
LAST-MODIFIED:20251117T010855Z
UID:10001656-1868090400-1868101200@jnotc.org
SUMMARY:Commissioners Court\, Tarrant County
DESCRIPTION:Regular meeting
URL:https://jnotc.org/event/commissioners-court-tarrant-county/2029-03-13/
LOCATION:G.K.Maenius Administration Building\, 100 E. Weatherford St.\, Fort Worth\, TX\, 76102\, United States
END:VEVENT
BEGIN:VEVENT
DTSTART;TZID=UTC:20290410T100000
DTEND;TZID=UTC:20290410T130000
DTSTAMP:20260425T170306
CREATED:20251117T010855Z
LAST-MODIFIED:20251117T010855Z
UID:10001657-1870509600-1870520400@jnotc.org
SUMMARY:Commissioners Court\, Tarrant County
DESCRIPTION:Regular meeting
URL:https://jnotc.org/event/commissioners-court-tarrant-county/2029-04-10/
LOCATION:G.K.Maenius Administration Building\, 100 E. Weatherford St.\, Fort Worth\, TX\, 76102\, United States
END:VEVENT
BEGIN:VEVENT
DTSTART;TZID=UTC:20290508T100000
DTEND;TZID=UTC:20290508T130000
DTSTAMP:20260425T170306
CREATED:20251117T010855Z
LAST-MODIFIED:20251117T010855Z
UID:10001658-1872928800-1872939600@jnotc.org
SUMMARY:Commissioners Court\, Tarrant County
DESCRIPTION:Regular meeting
URL:https://jnotc.org/event/commissioners-court-tarrant-county/2029-05-08/
LOCATION:G.K.Maenius Administration Building\, 100 E. Weatherford St.\, Fort Worth\, TX\, 76102\, United States
END:VEVENT
BEGIN:VEVENT
DTSTART;TZID=UTC:20290612T100000
DTEND;TZID=UTC:20290612T130000
DTSTAMP:20260425T170306
CREATED:20251117T010855Z
LAST-MODIFIED:20251117T010855Z
UID:10001659-1875952800-1875963600@jnotc.org
SUMMARY:Commissioners Court\, Tarrant County
DESCRIPTION:Regular meeting
URL:https://jnotc.org/event/commissioners-court-tarrant-county/2029-06-12/
LOCATION:G.K.Maenius Administration Building\, 100 E. Weatherford St.\, Fort Worth\, TX\, 76102\, United States
END:VEVENT
BEGIN:VEVENT
DTSTART;TZID=UTC:20290710T100000
DTEND;TZID=UTC:20290710T130000
DTSTAMP:20260425T170306
CREATED:20251117T010855Z
LAST-MODIFIED:20251117T010855Z
UID:10001660-1878372000-1878382800@jnotc.org
SUMMARY:Commissioners Court\, Tarrant County
DESCRIPTION:Regular meeting
URL:https://jnotc.org/event/commissioners-court-tarrant-county/2029-07-10/
LOCATION:G.K.Maenius Administration Building\, 100 E. Weatherford St.\, Fort Worth\, TX\, 76102\, United States
END:VEVENT
BEGIN:VEVENT
DTSTART;TZID=UTC:20290814T100000
DTEND;TZID=UTC:20290814T130000
DTSTAMP:20260425T170306
CREATED:20251117T010855Z
LAST-MODIFIED:20251117T010855Z
UID:10001661-1881396000-1881406800@jnotc.org
SUMMARY:Commissioners Court\, Tarrant County
DESCRIPTION:Regular meeting
URL:https://jnotc.org/event/commissioners-court-tarrant-county/2029-08-14/
LOCATION:G.K.Maenius Administration Building\, 100 E. Weatherford St.\, Fort Worth\, TX\, 76102\, United States
END:VEVENT
BEGIN:VEVENT
DTSTART;TZID=UTC:20290911T100000
DTEND;TZID=UTC:20290911T130000
DTSTAMP:20260425T170306
CREATED:20251117T010855Z
LAST-MODIFIED:20251117T010855Z
UID:10001662-1883815200-1883826000@jnotc.org
SUMMARY:Commissioners Court\, Tarrant County
DESCRIPTION:Regular meeting
URL:https://jnotc.org/event/commissioners-court-tarrant-county/2029-09-11/
LOCATION:G.K.Maenius Administration Building\, 100 E. Weatherford St.\, Fort Worth\, TX\, 76102\, United States
END:VEVENT
BEGIN:VEVENT
DTSTART;TZID=UTC:20291009T100000
DTEND;TZID=UTC:20291009T130000
DTSTAMP:20260425T170306
CREATED:20251117T010855Z
LAST-MODIFIED:20251117T010855Z
UID:10001663-1886234400-1886245200@jnotc.org
SUMMARY:Commissioners Court\, Tarrant County
DESCRIPTION:Regular meeting
URL:https://jnotc.org/event/commissioners-court-tarrant-county/2029-10-09/
LOCATION:G.K.Maenius Administration Building\, 100 E. Weatherford St.\, Fort Worth\, TX\, 76102\, United States
END:VEVENT
END:VCALENDAR